BEGIN:VCALENDAR
VERSION:2.0
PRODID:-//3 Hot Girls Healing - ECPv6.15.20//NONSGML v1.0//EN
CALSCALE:GREGORIAN
METHOD:PUBLISH
X-ORIGINAL-URL:https://3hotgirlshealing.com
X-WR-CALDESC:Events for 3 Hot Girls Healing
REFRESH-INTERVAL;VALUE=DURATION:PT1H
X-Robots-Tag:noindex
X-PUBLISHED-TTL:PT1H
BEGIN:VTIMEZONE
TZID:America/New_York
BEGIN:DAYLIGHT
TZOFFSETFROM:-0500
TZOFFSETTO:-0400
TZNAME:EDT
DTSTART:20250309T070000
END:DAYLIGHT
BEGIN:STANDARD
TZOFFSETFROM:-0400
TZOFFSETTO:-0500
TZNAME:EST
DTSTART:20251102T060000
END:STANDARD
BEGIN:DAYLIGHT
TZOFFSETFROM:-0500
TZOFFSETTO:-0400
TZNAME:EDT
DTSTART:20260308T070000
END:DAYLIGHT
BEGIN:STANDARD
TZOFFSETFROM:-0400
TZOFFSETTO:-0500
TZNAME:EST
DTSTART:20261101T060000
END:STANDARD
BEGIN:DAYLIGHT
TZOFFSETFROM:-0500
TZOFFSETTO:-0400
TZNAME:EDT
DTSTART:20270314T070000
END:DAYLIGHT
BEGIN:STANDARD
TZOFFSETFROM:-0400
TZOFFSETTO:-0500
TZNAME:EST
DTSTART:20271107T060000
END:STANDARD
END:VTIMEZONE
BEGIN:VEVENT
DTSTART;VALUE=DATE:20260103
DTEND;VALUE=DATE:20260104
DTSTAMP:20260419T173419
CREATED:20260115T162503Z
LAST-MODIFIED:20260115T163232Z
UID:1331-1767398400-1767484799@3hotgirlshealing.com
SUMMARY:Basic Yoga Poses\, Different Types of Yoga & the Benefits of Each
DESCRIPTION:Cross Fit Intro by Kris
URL:https://3hotgirlshealing.com/event/basic-yoga-poses-different-types-of-yoga-the-benefits-of-each/
ATTACH;FMTTYPE=image/png:https://3hotgirlshealing.com/wp-content/uploads/2026/01/self-care-saturday-basic-yoga-poses.png
END:VEVENT
END:VCALENDAR