BEGIN:VCALENDAR
VERSION:2.0
PRODID:-//3 Hot Girls Healing - ECPv6.15.20//NONSGML v1.0//EN
CALSCALE:GREGORIAN
METHOD:PUBLISH
X-WR-CALNAME:3 Hot Girls Healing
X-ORIGINAL-URL:https://3hotgirlshealing.com
X-WR-CALDESC:Events for 3 Hot Girls Healing
REFRESH-INTERVAL;VALUE=DURATION:PT1H
X-Robots-Tag:noindex
X-PUBLISHED-TTL:PT1H
BEGIN:VTIMEZONE
TZID:America/New_York
BEGIN:DAYLIGHT
TZOFFSETFROM:-0500
TZOFFSETTO:-0400
TZNAME:EDT
DTSTART:20250309T070000
END:DAYLIGHT
BEGIN:STANDARD
TZOFFSETFROM:-0400
TZOFFSETTO:-0500
TZNAME:EST
DTSTART:20251102T060000
END:STANDARD
BEGIN:DAYLIGHT
TZOFFSETFROM:-0500
TZOFFSETTO:-0400
TZNAME:EDT
DTSTART:20260308T070000
END:DAYLIGHT
BEGIN:STANDARD
TZOFFSETFROM:-0400
TZOFFSETTO:-0500
TZNAME:EST
DTSTART:20261101T060000
END:STANDARD
BEGIN:DAYLIGHT
TZOFFSETFROM:-0500
TZOFFSETTO:-0400
TZNAME:EDT
DTSTART:20270314T070000
END:DAYLIGHT
BEGIN:STANDARD
TZOFFSETFROM:-0400
TZOFFSETTO:-0500
TZNAME:EST
DTSTART:20271107T060000
END:STANDARD
END:VTIMEZONE
BEGIN:VEVENT
DTSTART;VALUE=DATE:20260104
DTEND;VALUE=DATE:20260105
DTSTAMP:20260419T230129
CREATED:20260115T163724Z
LAST-MODIFIED:20260116T142644Z
UID:1336-1767484800-1767571199@3hotgirlshealing.com
SUMMARY:Caladesi Island Trip
DESCRIPTION:50 Shades of Hunk
URL:https://3hotgirlshealing.com/event/caladesi-island-trip/
ATTACH;FMTTYPE=image/jpeg:https://3hotgirlshealing.com/wp-content/uploads/2026/01/IMG_5132.jpg
END:VEVENT
BEGIN:VEVENT
DTSTART;VALUE=DATE:20260103
DTEND;VALUE=DATE:20260104
DTSTAMP:20260419T230130
CREATED:20260115T162503Z
LAST-MODIFIED:20260115T163232Z
UID:1331-1767398400-1767484799@3hotgirlshealing.com
SUMMARY:Basic Yoga Poses\, Different Types of Yoga & the Benefits of Each
DESCRIPTION:50 Shades of Hunk
URL:https://3hotgirlshealing.com/event/basic-yoga-poses-different-types-of-yoga-the-benefits-of-each/
ATTACH;FMTTYPE=image/png:https://3hotgirlshealing.com/wp-content/uploads/2026/01/self-care-saturday-basic-yoga-poses.png
END:VEVENT
BEGIN:VEVENT
DTSTART;VALUE=DATE:20260102
DTEND;VALUE=DATE:20260103
DTSTAMP:20260419T230130
CREATED:20260115T161716Z
LAST-MODIFIED:20260115T161857Z
UID:1327-1767312000-1767398399@3hotgirlshealing.com
SUMMARY:Intro to 3 Hot Girls Healing
DESCRIPTION:50 Shades of Hunk
URL:https://3hotgirlshealing.com/event/intro-to-3-hot-girls-healing/
ATTACH;FMTTYPE=image/jpeg:https://3hotgirlshealing.com/wp-content/uploads/2025/12/IMG_5677.jpg
END:VEVENT
BEGIN:VEVENT
DTSTART;VALUE=DATE:20260101
DTEND;VALUE=DATE:20260102
DTSTAMP:20260419T230130
CREATED:20260115T145524Z
LAST-MODIFIED:20260115T150636Z
UID:1296-1767225600-1767311999@3hotgirlshealing.com
SUMMARY:Welcoming the New Year with Friends
DESCRIPTION:50 Shades of Hunk
URL:https://3hotgirlshealing.com/event/welcoming-the-new-year-with-friends/
ATTACH;FMTTYPE=image/jpeg:https://3hotgirlshealing.com/wp-content/uploads/2025/12/IMG_9406-scaled.jpg
END:VEVENT
BEGIN:VEVENT
DTSTART;VALUE=DATE:20260101
DTEND;VALUE=DATE:20260102
DTSTAMP:20260419T230130
CREATED:20260101T160917Z
LAST-MODIFIED:20260120T120534Z
UID:1321-1767225600-1767311999@3hotgirlshealing.com
SUMMARY:Sarah's Astrological Projection 2026
DESCRIPTION:50 Shades of Hunk
URL:https://3hotgirlshealing.com/event/astrological-projection-2026/
ATTACH;FMTTYPE=image/jpeg:https://3hotgirlshealing.com/wp-content/uploads/2026/01/astro-projection.jpg
END:VEVENT
END:VCALENDAR