BEGIN:VCALENDAR
VERSION:2.0
PRODID:-//3 Hot Girls Healing - ECPv6.15.20//NONSGML v1.0//EN
CALSCALE:GREGORIAN
METHOD:PUBLISH
X-WR-CALNAME:3 Hot Girls Healing
X-ORIGINAL-URL:https://3hotgirlshealing.com
X-WR-CALDESC:Events for 3 Hot Girls Healing
REFRESH-INTERVAL;VALUE=DURATION:PT1H
X-Robots-Tag:noindex
X-PUBLISHED-TTL:PT1H
BEGIN:VTIMEZONE
TZID:America/New_York
BEGIN:DAYLIGHT
TZOFFSETFROM:-0500
TZOFFSETTO:-0400
TZNAME:EDT
DTSTART:20250309T070000
END:DAYLIGHT
BEGIN:STANDARD
TZOFFSETFROM:-0400
TZOFFSETTO:-0500
TZNAME:EST
DTSTART:20251102T060000
END:STANDARD
BEGIN:DAYLIGHT
TZOFFSETFROM:-0500
TZOFFSETTO:-0400
TZNAME:EDT
DTSTART:20260308T070000
END:DAYLIGHT
BEGIN:STANDARD
TZOFFSETFROM:-0400
TZOFFSETTO:-0500
TZNAME:EST
DTSTART:20261101T060000
END:STANDARD
BEGIN:DAYLIGHT
TZOFFSETFROM:-0500
TZOFFSETTO:-0400
TZNAME:EDT
DTSTART:20270314T070000
END:DAYLIGHT
BEGIN:STANDARD
TZOFFSETFROM:-0400
TZOFFSETTO:-0500
TZNAME:EST
DTSTART:20271107T060000
END:STANDARD
END:VTIMEZONE
BEGIN:VEVENT
DTSTART;VALUE=DATE:20260330
DTEND;VALUE=DATE:20260331
DTSTAMP:20260419T185433
CREATED:20260401T080725Z
LAST-MODIFIED:20260401T080914Z
UID:2360-1774828800-1774915199@3hotgirlshealing.com
SUMMARY:March Music Monday
DESCRIPTION:50 Shades of Hunk
URL:https://3hotgirlshealing.com/event/march-music-monday/
ATTACH;FMTTYPE=image/jpeg:https://3hotgirlshealing.com/wp-content/uploads/2026/04/IMG_5932.jpg
END:VEVENT
BEGIN:VEVENT
DTSTART;VALUE=DATE:20260404
DTEND;VALUE=DATE:20260405
DTSTAMP:20260419T185433
CREATED:20260401T104013Z
LAST-MODIFIED:20260401T104137Z
UID:2381-1775260800-1775347199@3hotgirlshealing.com
SUMMARY:Cross Fit Intro by Kris
DESCRIPTION:50 Shades of Hunk
URL:https://3hotgirlshealing.com/event/cross-fit-intro-by-kris/
ATTACH;FMTTYPE=image/jpeg:https://3hotgirlshealing.com/wp-content/uploads/2026/04/cross-fit.jpg
END:VEVENT
END:VCALENDAR